BEGIN:VCALENDAR
VERSION:2.0
PRODID:-//Lough Corrib Trout Angling Federation - ECPv4.6.2//NONSGML v1.0//EN
CALSCALE:GREGORIAN
METHOD:PUBLISH
X-WR-CALNAME:Lough Corrib Trout Angling Federation
X-ORIGINAL-URL:http://loughcorribanglingfederation.ie
X-WR-CALDESC:Events for Lough Corrib Trout Angling Federation
BEGIN:VEVENT
DTSTART;TZID=UTC+0:20171015T100000
DTEND;TZID=UTC+0:20171015T180000
DTSTAMP:20171106T184130
CREATED:20170627T194223Z
LAST-MODIFIED:20170627T194223Z
UID:638-1508061600-1508090400@loughcorribanglingfederation.ie
SUMMARY:Annual Pike Competition
DESCRIPTION:Sean Grehan \n
URL:http://loughcorribanglingfederation.ie/event/annual-pike-competition-7/
LOCATION:Luimnagh\, Galway\, Ireland
CATEGORIES:Competition
ORGANIZER;CN="Ballindiff%20Bay%20Anglers":MAILTO:seagrehan@gmail.com
END:VEVENT
END:VCALENDAR