BEGIN:VCALENDAR
VERSION:2.0
PRODID:-//Lough Corrib Trout Angling Federation - ECPv4.6.2//NONSGML v1.0//EN
CALSCALE:GREGORIAN
METHOD:PUBLISH
X-WR-CALNAME:Lough Corrib Trout Angling Federation
X-ORIGINAL-URL:http://loughcorribanglingfederation.ie
X-WR-CALDESC:Events for Lough Corrib Trout Angling Federation
BEGIN:VEVENT
DTSTART;TZID=UTC+0:20170923T110000
DTEND;TZID=UTC+0:20170923T180000
DTSTAMP:20171106T181207
CREATED:20170627T194217Z
LAST-MODIFIED:20170627T194217Z
UID:630-1506164400-1506189600@loughcorribanglingfederation.ie
SUMMARY:The Hession Cup
DESCRIPTION:Brian Ferguson \n
URL:http://loughcorribanglingfederation.ie/event/the-hession-cup-4/
LOCATION:Ireland
CATEGORIES:Competition
ORGANIZER;CN="Oughterard%20Anglers%20and%20Boatmen%20Association":MAILTO:secretary@oughterardanglers.com
END:VEVENT
END:VCALENDAR