BEGIN:VCALENDAR
VERSION:2.0
PRODID:-//Lough Corrib Trout Angling Federation - ECPv4.6.2//NONSGML v1.0//EN
CALSCALE:GREGORIAN
METHOD:PUBLISH
X-WR-CALNAME:Lough Corrib Trout Angling Federation
X-ORIGINAL-URL:http://loughcorribanglingfederation.ie
X-WR-CALDESC:Events for Lough Corrib Trout Angling Federation
BEGIN:VEVENT
DTSTART;TZID=UTC+0:20170917T100000
DTEND;TZID=UTC+0:20170917T180000
DTSTAMP:20171106T181139
CREATED:20170627T194227Z
LAST-MODIFIED:20170627T194227Z
UID:645-1505642400-1505671200@loughcorribanglingfederation.ie
SUMMARY:September Last Cast
DESCRIPTION:John Cloherty \n
URL:http://loughcorribanglingfederation.ie/event/september-last-cast-4/
LOCATION:Ireland
CATEGORIES:Competition
ORGANIZER;CN="Commercial%20Boat%20Club":MAILTO:clohertyj@gmail.com
END:VEVENT
END:VCALENDAR