BEGIN:VCALENDAR
VERSION:2.0
PRODID:-//Lough Corrib Trout Angling Federation - ECPv4.6.2//NONSGML v1.0//EN
CALSCALE:GREGORIAN
METHOD:PUBLISH
X-WR-CALNAME:Lough Corrib Trout Angling Federation
X-ORIGINAL-URL:http://loughcorribanglingfederation.ie
X-WR-CALDESC:Events for Lough Corrib Trout Angling Federation
BEGIN:VEVENT
DTSTART;TZID=UTC+0:20170820T100000
DTEND;TZID=UTC+0:20170820T180000
DTSTAMP:20171106T184249
CREATED:20170627T194227Z
LAST-MODIFIED:20170627T194227Z
UID:644-1503223200-1503252000@loughcorribanglingfederation.ie
SUMMARY:August Open Mixed Grill
DESCRIPTION:John Cloherty \n
URL:http://loughcorribanglingfederation.ie/event/august-open-mixed-grill-4/
LOCATION:Ireland
CATEGORIES:Competition
ORGANIZER;CN="Commercial%20Boat%20Club":MAILTO:clohertyj@gmail.com
END:VEVENT
BEGIN:VEVENT
DTSTART;TZID=UTC+0:20170820T110000
DTEND;TZID=UTC+0:20170820T180000
DTSTAMP:20171106T184249
CREATED:20170627T194217Z
LAST-MODIFIED:20170627T194217Z
UID:629-1503226800-1503252000@loughcorribanglingfederation.ie
SUMMARY:Bring & Win Fun Competition
DESCRIPTION:Brian Ferguson \n
URL:http://loughcorribanglingfederation.ie/event/bring-win-fun-competition-4/
LOCATION:Ireland
CATEGORIES:Competition
ORGANIZER;CN="Oughterard%20Anglers%20and%20Boatmen%20Association":MAILTO:secretary@oughterardanglers.com
END:VEVENT
END:VCALENDAR