BEGIN:VCALENDAR
VERSION:2.0
PRODID:-//Lough Corrib Trout Angling Federation - ECPv4.6.2//NONSGML v1.0//EN
CALSCALE:GREGORIAN
METHOD:PUBLISH
X-WR-CALNAME:Lough Corrib Trout Angling Federation
X-ORIGINAL-URL:http://loughcorribanglingfederation.ie
X-WR-CALDESC:Events for Lough Corrib Trout Angling Federation
BEGIN:VEVENT
DTSTART;TZID=UTC+0:20170514T110000
DTEND;TZID=UTC+0:20170514T180000
DTSTAMP:20171106T190104
CREATED:20170627T194214Z
LAST-MODIFIED:20170627T194214Z
UID:626-1494759600-1494784800@loughcorribanglingfederation.ie
SUMMARY:International Mayfly
DESCRIPTION:Brian Ferguson \nShare this:Click to share on Facebook (Opens in new window)Click to share on WhatsApp (Opens in new window)Click to email this to a friend (Opens in new window)Like this:Like Loading...\n\n	Related\n
URL:http://loughcorribanglingfederation.ie/event/international-mayfly-4/
LOCATION:Ireland
CATEGORIES:Competition
ORGANIZER;CN="Oughterard%20Anglers%20and%20Boatmen%20Association":MAILTO:secretary@oughterardanglers.com
END:VEVENT
END:VCALENDAR