BEGIN:VCALENDAR
VERSION:2.0
PRODID:-//Lough Corrib Trout Angling Federation - ECPv4.6.2//NONSGML v1.0//EN
CALSCALE:GREGORIAN
METHOD:PUBLISH
X-WR-CALNAME:Lough Corrib Trout Angling Federation
X-ORIGINAL-URL:http://loughcorribanglingfederation.ie
X-WR-CALDESC:Events for Lough Corrib Trout Angling Federation
BEGIN:VEVENT
DTSTART;TZID=UTC+0:20170604T110000
DTEND;TZID=UTC+0:20170604T180000
DTSTAMP:20171106T183010
CREATED:20170627T194206Z
LAST-MODIFIED:20170627T194206Z
UID:615-1496574000-1496599200@loughcorribanglingfederation.ie
SUMMARY:Galway Wind Park Cup
DESCRIPTION:David Connolly \nShare this:Click to share on Facebook (Opens in new window)Click to share on WhatsApp (Opens in new window)Click to email this to a friend (Opens in new window)Like this:Like Loading...\n\n	Related\n
URL:http://loughcorribanglingfederation.ie/event/galway-wind-park-cup-4/
LOCATION:Ireland
CATEGORIES:Competition
ORGANIZER;CN="Collinamuck%20%26amp%3B%20District%20Angling%20Club":MAILTO:david.connolly@nuigalway.ie
END:VEVENT
END:VCALENDAR