BEGIN:VCALENDAR
VERSION:2.0
PRODID:-//Lough Corrib Trout Angling Federation - ECPv4.6.2//NONSGML v1.0//EN
CALSCALE:GREGORIAN
METHOD:PUBLISH
X-WR-CALNAME:Lough Corrib Trout Angling Federation
X-ORIGINAL-URL:http://loughcorribanglingfederation.ie
X-WR-CALDESC:Events for Lough Corrib Trout Angling Federation
BEGIN:VEVENT
DTSTART;TZID=UTC+0:20170702T103000
DTEND;TZID=UTC+0:20170702T180000
DTSTAMP:20171106T183525
CREATED:20170627T194224Z
LAST-MODIFIED:20170627T194224Z
UID:640-1498991400-1499018400@loughcorribanglingfederation.ie
SUMMARY:Annual Pike Competition
DESCRIPTION:Richard Lyons \nShare this:Click to share on Facebook (Opens in new window)Click to share on WhatsApp (Opens in new window)Click to email this to a friend (Opens in new window)Like this:Like Loading...\n\n	Related\n
URL:http://loughcorribanglingfederation.ie/event/annual-pike-competition-8/
LOCATION:Ireland
CATEGORIES:Competition
ORGANIZER;CN="Galway%20%26amp%3B%20Corrib%20Anglers":MAILTO:richardlyons8@gmail.com
END:VEVENT
END:VCALENDAR