BEGIN:VCALENDAR
VERSION:2.0
PRODID:-//Lough Corrib Trout Angling Federation - ECPv4.6.2//NONSGML v1.0//EN
CALSCALE:GREGORIAN
METHOD:PUBLISH
X-WR-CALNAME:Lough Corrib Trout Angling Federation
X-ORIGINAL-URL:http://loughcorribanglingfederation.ie
X-WR-CALDESC:Events for Lough Corrib Trout Angling Federation
BEGIN:VEVENT
DTSTART;TZID=UTC+0:20170528T110000
DTEND;TZID=UTC+0:20170528T180000
DTSTAMP:20171106T182857
CREATED:20170627T194220Z
LAST-MODIFIED:20170627T194220Z
UID:633-1495969200-1495994400@loughcorribanglingfederation.ie
SUMMARY:Annual Mayfly Senior Competition
DESCRIPTION:Eamon Gavin \nShare this:Click to share on Facebook (Opens in new window)Click to share on WhatsApp (Opens in new window)Click to email this to a friend (Opens in new window)Like this:Like Loading...\n\n	Related\n
URL:http://loughcorribanglingfederation.ie/event/annual-mayfly-senior-competition-4/
LOCATION:Ireland
CATEGORIES:Competition
ORGANIZER;CN="Corr%20Na%20Mona%20%26amp%3B%20District%20Anglers":MAILTO:eamonpgavin@eircom.net
END:VEVENT
END:VCALENDAR